BEGIN:VCALENDAR
VERSION:2.0
PRODID:-//ChamberMaster//Event Calendar 2.0//EN
METHOD:PUBLISH
X-PUBLISHED-TTL:P3D
REFRESH-INTERVAL:P3D
CALSCALE:GREGORIAN
BEGIN:VEVENT
DTSTART:20150218T230000Z
DTEND:20150219T020000Z
X-MICROSOFT-CDO-ALLDAYEVENT:FALSE
SUMMARY:Ribbon Cutting and Grand Opening @ Alliance Bank
DESCRIPTION:Join the Chandler Chamber at the ribbon cutting and grand opening for Alliance Bank! You will not want to miss the celebration. Ribbon cutting and refreshments.
X-ALT-DESC;FMTTYPE=text/html:Join the Chandler Chamber at the ribbon cutting and grand opening for Alliance Bank! You will not want to miss the celebration. Ribbon cutting and refreshments.&nbsp\;
LOCATION:3033 W. Ray Rd Chandler\, AZ 85226
UID:e.1561.12473
SEQUENCE:3
DTSTAMP:20260426T042222Z
URL:https://business.chandlerchamber.com/events/details/ribbon-cutting-and-grand-opening-alliance-bank-02-18-2015-12473
END:VEVENT

END:VCALENDAR
