BEGIN:VCALENDAR
VERSION:2.0
PRODID:-//ChamberMaster//Event Calendar 2.0//EN
METHOD:PUBLISH
X-PUBLISHED-TTL:P3D
REFRESH-INTERVAL:P3D
CALSCALE:GREGORIAN
BEGIN:VEVENT
DTSTART:20150311T150000Z
DTEND:20150311T160000Z
X-MICROSOFT-CDO-ALLDAYEVENT:FALSE
SUMMARY:Ribbon Cutting and Grand Opening @ WalMart
DESCRIPTION:Come join the Chandler Chamber in celebrating the Grand Opening of Walmart!\n\n\n\n*Thank you to our ribbon sponsor\, Laser Creations
X-ALT-DESC;FMTTYPE=text/html:Come join the Chandler Chamber in celebrating the Grand Opening of Walmart!<br />\n<br />\n*Thank you to our ribbon sponsor\, Laser Creations
LOCATION:3456 W Chandler Blvd. Chandler\, AZ 85224
UID:e.1561.12626
SEQUENCE:3
DTSTAMP:20260425T225410Z
URL:https://business.chandlerchamber.com/events/details/ribbon-cutting-and-grand-opening-walmart-03-11-2015-12626
END:VEVENT

END:VCALENDAR
