BEGIN:VCALENDAR
VERSION:2.0
PRODID:-//ChamberMaster//Event Calendar 2.0//EN
METHOD:PUBLISH
X-PUBLISHED-TTL:P3D
REFRESH-INTERVAL:P3D
CALSCALE:GREGORIAN
BEGIN:VEVENT
DTSTART:20150217T233000Z
DTEND:20150218T003000Z
X-MICROSOFT-CDO-ALLDAYEVENT:FALSE
SUMMARY:Ribbon Cutting / Anniversary Celebration for Exchange Club of Chandler
DESCRIPTION:Join us in celebrating the ribbon cutting and anniversary celebration for the Exchange Club of Chandler. Including light refreshments.\n\n\n\n*Thank you to our ribbon sponsor\, Laser Creations
X-ALT-DESC;FMTTYPE=text/html:Join us in celebrating the ribbon cutting and anniversary celebration for the Exchange Club of Chandler. Including light refreshments.<br />\n<br />\n*Thank you to our ribbon sponsor\, Laser Creations
LOCATION:Coach & Willies 1 E Boston St Chandler\, AZ 85225
UID:e.1561.11981
SEQUENCE:3
DTSTAMP:20260426T003439Z
URL:https://business.chandlerchamber.com/events/details/ribbon-cutting-anniversary-celebration-for-exchange-club-of-chandler-02-17-2015-11981
END:VEVENT

END:VCALENDAR
