BEGIN:VCALENDAR
VERSION:2.0
PRODID:-//ChamberMaster//Event Calendar 2.0//EN
METHOD:PUBLISH
X-PUBLISHED-TTL:P3D
REFRESH-INTERVAL:P3D
CALSCALE:GREGORIAN
BEGIN:VEVENT
DTSTART:20171109T230000Z
DTEND:20171110T000000Z
X-MICROSOFT-CDO-ALLDAYEVENT:FALSE
SUMMARY:Ribbon Cutting - Arbor Therapy
DESCRIPTION:Ribbon Cutting\n\n\n\nAioli Food Truck will be there from 4:30 - 6:00 serving burgers and a side of sweet potato or golden fries
X-ALT-DESC;FMTTYPE=text/html:<span style="font-family:arial\;"><span style="font-size:12px\;">Ribbon Cutting</span></span><br />\n<br />\n<span style="font-family:calibri\,sans-serif\;"><span style="font-size:11.0pt\;">Aioli Food Truck will be there from 4:30 - 6:00 serving burgers and a side of sweet potato or golden fries</span></span><br />\n&nbsp\;
LOCATION:2950 N Dobson Rd Suite 3\, Chandler\, AZ 85224 SW Corner of Dobson and Elliott
UID:e.1561.19113
SEQUENCE:3
DTSTAMP:20260424T022022Z
URL:https://business.chandlerchamber.com/events/details/ribbon-cutting-arbor-therapy-19113
END:VEVENT

END:VCALENDAR
