BEGIN:VCALENDAR
VERSION:2.0
PRODID:-//ChamberMaster//Event Calendar 2.0//EN
METHOD:PUBLISH
X-PUBLISHED-TTL:P3D
REFRESH-INTERVAL:P3D
CALSCALE:GREGORIAN
BEGIN:VEVENT
DTSTART:20180427T230000Z
DTEND:20180428T000000Z
X-MICROSOFT-CDO-ALLDAYEVENT:FALSE
SUMMARY:Ribbon Cutting at Gravity Extreme Zone
DESCRIPTION:Join the Chandler Chamber at a ribbon cutting for Gravity Extreme Zone!\n\n*Thank you to our ribbon sponsor Laser Creations*\n\n\n\nFAMILY AND CHILDREN ARE INVITED
X-ALT-DESC;FMTTYPE=text/html:Join the Chandler Chamber at a ribbon cutting for Gravity Extreme Zone!<br />\n*Thank you to our ribbon sponsor Laser Creations*<br />\n<br />\nFAMILY AND CHILDREN ARE INVITED
LOCATION:Gravity Extreme Zone 190 S Kyrene Rd.\, Ste 5 Chandler AZ 85226 Between Frye and Chandler Blvd. Building is behind Stone Creek Furniture
UID:e.1561.32602
SEQUENCE:3
DTSTAMP:20260423T193143Z
URL:https://business.chandlerchamber.com/events/details/ribbon-cutting-at-gravity-extreme-zone-32602
END:VEVENT

END:VCALENDAR
