BEGIN:VCALENDAR
VERSION:2.0
PRODID:-//ChamberMaster//Event Calendar 2.0//EN
METHOD:PUBLISH
X-PUBLISHED-TTL:P3D
REFRESH-INTERVAL:P3D
CALSCALE:GREGORIAN
BEGIN:VEVENT
DTSTART:20230304T170000Z
DTEND:20230304T210000Z
X-MICROSOFT-CDO-ALLDAYEVENT:FALSE
SUMMARY:Ribbon Cutting - Autism Spectrum Therapies
DESCRIPTION:Come Join the Chandler Chamber of Commerce and Celebrate the Grand Opening of Autism Spectrum Therapies.\n\n\n\nEven if you are just beginning your family's journey with autism\, you probably already know someone who has it. According to the Centers for Disease Control\, 1 in every 44 American children has an autism diagnosis.\n\n\n\nAutism Spectrum Therapies (AST) was founded to help families just like yours. We're celebrating more than 20 years of serving the autism community. It's all because we wanted to give families the top-level care they deserve.\n\n\n\nDr. Ronit Molko and Dr. William Frea founded AST in 2001. They knew families needed focused treatment for children with autism\, so they built a program centered around developing functional skills and independence in a child's natural environment. \n\n\n\nToday\, AST uses evidence-based applied behavior analysis (ABA) therapy to help kids and young adults with autism find success. Our goal is to empower our clients to build the skills needed to live a happy and fulfilling life.\n\n\n\nAST is part of LEARN Behavioral\, a national organization dedicated to nurturing potential in children and young adults with autism   and supporting families from day one. We consider you\, as parents and caregivers\, your child's first and most important teacher\, and we partner with you to create an environment in which you and your child can thrive.
X-ALT-DESC;FMTTYPE=text/html:Come Join the Chandler Chamber of Commerce and Celebrate the Grand Opening of Autism Spectrum Therapies.<br />\n<br />\nEven if you are just beginning your family&rsquo\;s journey with autism\, you probably already know someone who has it. According to the Centers for Disease Control\, 1 in every 44 American children has an autism diagnosis.<br />\n<br />\nAutism Spectrum Therapies (AST) was founded to help families just like yours. We&rsquo\;re celebrating more than 20 years of serving the autism community. It&rsquo\;s all because we wanted to give families the top-level care they deserve.<br />\n<br />\nDr. Ronit Molko and Dr. William Frea founded AST in 2001. They knew families needed focused treatment for children with autism\, so they built a program centered around developing functional skills and independence in a child&rsquo\;s natural environment.&nbsp\;<br />\n<br />\nToday\, AST uses evidence-based applied behavior analysis (ABA) therapy to help kids and young adults with autism find success. Our goal is to empower our clients to build the skills needed to live a happy and fulfilling life.<br />\n<br />\nAST is part of LEARN Behavioral\, a national organization dedicated to nurturing potential in children and young adults with autism &mdash\; and supporting families from day one. We consider you\, as parents and caregivers\, your child&rsquo\;s first and most important teacher\, and we partner with you to create an environment in which you and your child can thrive.
LOCATION:750 E Northrup Blvd Chandler\, AZ 85286
UID:e.1561.44431
SEQUENCE:3
DTSTAMP:20260423T203046Z
URL:https://business.chandlerchamber.com/events/details/ribbon-cutting-autism-spectrum-therapies-44431
END:VEVENT

END:VCALENDAR
