BEGIN:VCALENDAR
VERSION:2.0
PRODID:-//ChamberMaster//Event Calendar 2.0//EN
METHOD:PUBLISH
X-PUBLISHED-TTL:P3D
REFRESH-INTERVAL:P3D
CALSCALE:GREGORIAN
BEGIN:VEVENT
DTSTART:20150409T233000Z
DTEND:20150410T003000Z
X-MICROSOFT-CDO-ALLDAYEVENT:FALSE
SUMMARY:Ribbon Cutting @ Backfit Health and Spine
DESCRIPTION:Ribbon cutting and refreshments!\n\n\n\n* Thank you to our ribbon sponsor\, Laser Creations
X-ALT-DESC;FMTTYPE=text/html:Ribbon cutting and refreshments!<br />\n<br />\n* Thank you to our ribbon sponsor\, Laser Creations
LOCATION:1949 W Ray Rd Ste 23 Chandler\, AZ 85224 *SE corner of Dobson/Ray
UID:e.1561.12652
SEQUENCE:3
DTSTAMP:20260425T231010Z
URL:https://business.chandlerchamber.com/events/details/ribbon-cutting-backfit-health-and-spine-04-09-2015-12652
END:VEVENT

END:VCALENDAR
