BEGIN:VCALENDAR
VERSION:2.0
PRODID:-//ChamberMaster//Event Calendar 2.0//EN
METHOD:PUBLISH
X-PUBLISHED-TTL:P3D
REFRESH-INTERVAL:P3D
CALSCALE:GREGORIAN
BEGIN:VEVENT
DTSTART:20230614T173000Z
DTEND:20230614T190000Z
X-MICROSOFT-CDO-ALLDAYEVENT:FALSE
SUMMARY:Ribbon Cutting-Basha's Grand Opening
DESCRIPTION:Basha's Grand Opening \n\nJoin us for a Grand Opening and Ribbon Cutting Ceremony for Basha's new Corporate Support Center.\n\nLight Refreshments & Tours to Follow
X-ALT-DESC;FMTTYPE=text/html:Basha&#39\;s Grand Opening&nbsp\;<br />\nJoin us for a Grand Opening and Ribbon Cutting Ceremony for Basha&#39\;s new Corporate Support Center.<br />\nLight Refreshments &amp\; Tours to Follow
LOCATION:2650 W. Geronimo Place Chandler\, AZ 85224
UID:e.1561.48434
SEQUENCE:3
DTSTAMP:20260423T151811Z
URL:https://business.chandlerchamber.com/events/details/ribbon-cutting-basha-s-grand-opening-48434
END:VEVENT

END:VCALENDAR
