BEGIN:VCALENDAR
VERSION:2.0
PRODID:-//ChamberMaster//Event Calendar 2.0//EN
METHOD:PUBLISH
X-PUBLISHED-TTL:P3D
REFRESH-INTERVAL:P3D
CALSCALE:GREGORIAN
BEGIN:VEVENT
DTSTART:20150204T233000Z
DTEND:20150205T003000Z
X-MICROSOFT-CDO-ALLDAYEVENT:FALSE
SUMMARY:Ribbon Cutting @ Broadstone Trevi
DESCRIPTION:Join the Chandler Chamber of Commerce at the Ribbon cutting for Broadstone Trevi! \n\n\n\nThe celebration will feature tours\, wine\, and appetizers.\n\n\n\n*Thank you to our ribbon sponsor Laser Creations.
X-ALT-DESC;FMTTYPE=text/html:Join the Chandler Chamber of Commerce at the Ribbon cutting for Broadstone Trevi!&nbsp\;<br />\n<br />\nThe celebration will feature tours\, wine\, and appetizers.<br />\n<br />\n*Thank you to our ribbon sponsor Laser Creations.&nbsp\;
LOCATION:635 S Ellis St Chandler\, AZ 85224
UID:e.1561.11979
SEQUENCE:3
DTSTAMP:20260426T015224Z
URL:https://business.chandlerchamber.com/events/details/ribbon-cutting-broadstone-trevi-02-04-2015-11979
END:VEVENT

END:VCALENDAR
