BEGIN:VCALENDAR
VERSION:2.0
PRODID:-//ChamberMaster//Event Calendar 2.0//EN
METHOD:PUBLISH
X-PUBLISHED-TTL:P3D
REFRESH-INTERVAL:P3D
CALSCALE:GREGORIAN
BEGIN:VEVENT
DTSTART:20150113T233000Z
DTEND:20150114T003000Z
X-MICROSOFT-CDO-ALLDAYEVENT:FALSE
SUMMARY:Ribbon Cutting @ Burst of Butterflies Pottery
DESCRIPTION:Join the Chandler Chamber of Commerce at the Ribbon Cutting for Burst of Butterflies Pottery!\n\n\n\n*Thank you to our ribbon sponsor Laser Creations\, www.lasercreationsaz.com
X-ALT-DESC;FMTTYPE=text/html:Join the Chandler Chamber of Commerce at the Ribbon Cutting for Burst of Butterflies Pottery!<br />\n<br />\n*Thank you to our ribbon sponsor Laser Creations\, www.lasercreationsaz.com<br />\n<br />\n&nbsp\;
LOCATION:141 W Boston St Chandler\, AZ 85225
UID:e.1561.11258
SEQUENCE:3
DTSTAMP:20260426T015730Z
URL:https://business.chandlerchamber.com/events/details/ribbon-cutting-burst-of-butterflies-pottery-01-13-2015-11258
END:VEVENT

END:VCALENDAR
