BEGIN:VCALENDAR
VERSION:2.0
PRODID:-//ChamberMaster//Event Calendar 2.0//EN
METHOD:PUBLISH
X-PUBLISHED-TTL:P3D
REFRESH-INTERVAL:P3D
CALSCALE:GREGORIAN
BEGIN:VEVENT
DTSTART:20150226T233000Z
DTEND:20150227T003000Z
X-MICROSOFT-CDO-ALLDAYEVENT:FALSE
SUMMARY:Ribbon Cutting @ Cantera Apartments
DESCRIPTION:Join the Chandler Chamber of Commerce at the ribbon cutting for Cantera Luxury Apartments. Ribbon cutting\, refreshments\, and getting to meet great people. \n\n\n\nThank you to our ribbon sponsor\, Laser Creations.
X-ALT-DESC;FMTTYPE=text/html:Join the Chandler Chamber of Commerce at the ribbon cutting for Cantera Luxury Apartments. Ribbon cutting\, refreshments\, and getting to meet great people.&nbsp\;<br />\n<br />\nThank you to our ribbon sponsor\, Laser Creations.&nbsp\;
LOCATION:2475 W Pecos Rd Chandler\, AZ 85224
UID:e.1561.12180
SEQUENCE:3
DTSTAMP:20260426T002755Z
URL:https://business.chandlerchamber.com/events/details/ribbon-cutting-cantera-apartments-02-26-2015-12180
END:VEVENT

END:VCALENDAR
