BEGIN:VCALENDAR
VERSION:2.0
PRODID:-//ChamberMaster//Event Calendar 2.0//EN
METHOD:PUBLISH
X-PUBLISHED-TTL:P3D
REFRESH-INTERVAL:P3D
CALSCALE:GREGORIAN
BEGIN:VEVENT
DTSTART:20171130T230000Z
DTEND:20171201T000000Z
X-MICROSOFT-CDO-ALLDAYEVENT:FALSE
SUMMARY:Ribbon Cutting Celebrating 20th Anniversary for Home Instead
DESCRIPTION:Join the Chandler Chamber as we celebrate the 20th Anniversary of\n\nHome Instead\n\n*Thank you to our ribbon sponsor Laser Creations*
X-ALT-DESC;FMTTYPE=text/html:Join the Chandler Chamber as we celebrate the 20th Anniversary of<br />\nHome Instead<br />\n*Thank you to our ribbon sponsor Laser Creations*&nbsp\; &nbsp\;&nbsp\;
LOCATION:10450 E Riggs Rd #117 Sun Lakes AZ 85248 NE corner Alma School/Riggs Rd
UID:e.1561.19142
SEQUENCE:3
DTSTAMP:20260424T022300Z
URL:https://business.chandlerchamber.com/events/details/ribbon-cutting-celebrating-20th-anniversary-for-home-instead-19142
END:VEVENT

END:VCALENDAR
