BEGIN:VCALENDAR
VERSION:2.0
PRODID:-//ChamberMaster//Event Calendar 2.0//EN
METHOD:PUBLISH
X-PUBLISHED-TTL:P3D
REFRESH-INTERVAL:P3D
CALSCALE:GREGORIAN
BEGIN:VEVENT
DTSTART:20220329T230000Z
DTEND:20220330T000000Z
X-MICROSOFT-CDO-ALLDAYEVENT:FALSE
SUMMARY:Ribbon Cutting - Chino Mex Restaurant
DESCRIPTION:Join us to celebrate the Ribbon Cutting of Chandler's newest restaurant - Chino Mex!
X-ALT-DESC;FMTTYPE=text/html:Join us to celebrate the Ribbon Cutting of Chandler's newest restaurant - Chino Mex!
LOCATION:6140 W Chandler Blvd Chandler\, AZ 85226
UID:e.1561.40647
SEQUENCE:3
DTSTAMP:20260423T234033Z
URL:https://business.chandlerchamber.com/events/details/ribbon-cutting-chino-mex-restaurant-40647
END:VEVENT

END:VCALENDAR
