BEGIN:VCALENDAR
VERSION:2.0
PRODID:-//ChamberMaster//Event Calendar 2.0//EN
METHOD:PUBLISH
X-PUBLISHED-TTL:P3D
REFRESH-INTERVAL:P3D
CALSCALE:GREGORIAN
BEGIN:VEVENT
DTSTART:20150326T190000Z
DTEND:20150326T200000Z
X-MICROSOFT-CDO-ALLDAYEVENT:FALSE
SUMMARY:Ribbon Cutting @ Cort Furniture
DESCRIPTION:Join the Chandler Chamber for the Ribbon cutting and grand opening of Cort Furniture Rental and Retail! Ribbon cutting and refreshments. \n\n\n\n*Thank you to our ribbon sponsor\, Laser Creations.
X-ALT-DESC;FMTTYPE=text/html:Join the Chandler Chamber for the Ribbon cutting and grand opening of Cort Furniture Rental and Retail! Ribbon cutting and refreshments.&nbsp\;<br />\n<br />\n*Thank you to our ribbon sponsor\, Laser Creations.&nbsp\;
LOCATION:150 S. Kyrene Ste 1 Chandler\, AZ 85226
UID:e.1561.12629
SEQUENCE:3
DTSTAMP:20260425T225544Z
URL:https://business.chandlerchamber.com/events/details/ribbon-cutting-cort-furniture-03-26-2015-12629
END:VEVENT

END:VCALENDAR
