BEGIN:VCALENDAR
VERSION:2.0
PRODID:-//ChamberMaster//Event Calendar 2.0//EN
METHOD:PUBLISH
X-PUBLISHED-TTL:P3D
REFRESH-INTERVAL:P3D
CALSCALE:GREGORIAN
BEGIN:VEVENT
DTSTART:20150925T223000Z
DTEND:20150925T233000Z
X-MICROSOFT-CDO-ALLDAYEVENT:FALSE
SUMMARY:Ribbon Cutting- Crust
DESCRIPTION:Ribbon Cutting for Crust!! Join the Celebration.\n\n\n\n\n\n*Thank you to our Ribbon Sponsor Laser Creations
X-ALT-DESC;FMTTYPE=text/html:Ribbon Cutting for Crust!! Join the Celebration.<br />\n<br />\n<br />\n*Thank you to our Ribbon Sponsor Laser Creations
LOCATION:Crust 10 N San Marcos Pl Chandler\, AZ 85225 NW Corner of Commonwealth Ave & San Marcos Pl (Downtown Chandler)
UID:e.1561.13222
SEQUENCE:3
DTSTAMP:20260425T165814Z
URL:https://business.chandlerchamber.com/events/details/ribbon-cutting-crust-09-25-2015-13222
END:VEVENT

END:VCALENDAR
