BEGIN:VCALENDAR
VERSION:2.0
PRODID:-//ChamberMaster//Event Calendar 2.0//EN
METHOD:PUBLISH
X-PUBLISHED-TTL:P3D
REFRESH-INTERVAL:P3D
CALSCALE:GREGORIAN
BEGIN:VEVENT
DTSTART:20171027T183000Z
DTEND:20171027T210000Z
X-MICROSOFT-CDO-ALLDAYEVENT:FALSE
SUMMARY:Ribbon Cutting & Customer Appreciation Day of Allard Collision
DESCRIPTION:Join the Chandler Chamber of Commerce for a ribbon Cutting at Allard Collison.\n\n\n\n*Thank you to our ribbon sponsor Laser Creations*
X-ALT-DESC;FMTTYPE=text/html:Join the Chandler Chamber of Commerce for a ribbon Cutting at Allard Collison.<br />\n<br />\n*Thank you to our ribbon sponsor Laser Creations* &nbsp\; &nbsp\;&nbsp\;
LOCATION:230 E Highland St\, Ste 2-3 Chandler\, AZ. 85225
UID:e.1561.19117
SEQUENCE:3
DTSTAMP:20260424T035716Z
URL:https://business.chandlerchamber.com/events/details/ribbon-cutting-customer-appreciation-day-of-allard-collision-19117
END:VEVENT

END:VCALENDAR
