BEGIN:VCALENDAR
VERSION:2.0
PRODID:-//ChamberMaster//Event Calendar 2.0//EN
METHOD:PUBLISH
X-PUBLISHED-TTL:P3D
REFRESH-INTERVAL:P3D
CALSCALE:GREGORIAN
BEGIN:VEVENT
DTSTART:20150220T233000Z
DTEND:20150221T003000Z
X-MICROSOFT-CDO-ALLDAYEVENT:FALSE
SUMMARY:Ribbon Cutting @ DNB Engineering Inc.
DESCRIPTION:Join the Chandler Chamber at the Ribbon Cutting for DNB Engineering\, INC. ribbon cutting and refreshments. Thank you to our ribbon sponsor Laser Creations.
X-ALT-DESC;FMTTYPE=text/html:Join the Chandler Chamber at the Ribbon Cutting for DNB Engineering\, INC. ribbon cutting and refreshments. Thank you to our ribbon sponsor Laser Creations.&nbsp\;
LOCATION:580 N. 54th St #4 Chandler\, AZ 85226 North of Chandler Blvd.
UID:e.1561.12477
SEQUENCE:3
DTSTAMP:20260426T002420Z
URL:https://business.chandlerchamber.com/events/details/ribbon-cutting-dnb-engineering-inc-02-20-2015-12477
END:VEVENT

END:VCALENDAR
