BEGIN:VCALENDAR
VERSION:2.0
PRODID:-//ChamberMaster//Event Calendar 2.0//EN
METHOD:PUBLISH
X-PUBLISHED-TTL:P3D
REFRESH-INTERVAL:P3D
CALSCALE:GREGORIAN
BEGIN:VEVENT
DTSTART:20171005T230000Z
DTEND:20171006T000000Z
X-MICROSOFT-CDO-ALLDAYEVENT:FALSE
SUMMARY:Ribbon Cutting - Down Time Wines
DESCRIPTION:Ribbon Cutting - Down Time Wines
X-ALT-DESC;FMTTYPE=text/html:Ribbon Cutting - Down Time Wines
LOCATION:393 W Warner Rd\, Ste 109 Chandler\, AZ Southwest Corner of Warner and Arizona Ave
UID:e.1561.19114
SEQUENCE:3
DTSTAMP:20260424T034327Z
URL:https://business.chandlerchamber.com/events/details/ribbon-cutting-down-time-wines-19114
END:VEVENT

END:VCALENDAR
