BEGIN:VCALENDAR
VERSION:2.0
PRODID:-//ChamberMaster//Event Calendar 2.0//EN
METHOD:PUBLISH
X-PUBLISHED-TTL:P3D
REFRESH-INTERVAL:P3D
CALSCALE:GREGORIAN
BEGIN:VEVENT
DTSTART:20230426T230000Z
DTEND:20230427T000000Z
X-MICROSOFT-CDO-ALLDAYEVENT:FALSE
SUMMARY:Ribbon Cutting Downtown Chandler Flex Rewards
DESCRIPTION:Please join the\n\nChandler Chamber of Commerce\n\nand celebrate the ribbon cutting for \n\nDowntown Chandler Flex Rewards\n\n\n\nDowntown Chandler Flex Rewards wants to turn everyday shopping and entertainment into rewards from the places they love in downtown chandler. We deployed this program to offer marketing automation to business owners and push notification benefits about rewards to their customers. This 100% contactless mobile compatible digital rewards stamp card gives people a whole new type of shopping and dining reward experience. The advanced QR code-based digital rewards app is very easy for people to use with one stamp card on your phone at a variety of locations.
X-ALT-DESC;FMTTYPE=text/html:&nbsp\; &nbsp\; &nbsp\; &nbsp\; &nbsp\; &nbsp\; &nbsp\;Please join the<br />\n<strong>Chandler Chamber of Commerce</strong><br />\nand celebrate the ribbon cutting for&nbsp\;<br />\n<strong>Downtown Chandler Flex Rewards</strong><br />\n<br />\n<span style="font-size:12px\;"><span style="color: rgb(66\, 72\, 75)\; font-family: &quot\;Open Sans&quot\;\, sans-serif\; text-align: center\; background-color: rgb(255\, 255\, 255)\;">Downtown Chandler Flex Rewards wants to turn everyday shopping and entertainment into rewards from the places they love in downtown chandler. We deployed this program to offer marketing automation to business owners and push notification benefits about rewards to their customers. This 100% contactless mobile compatible digital rewards stamp card gives people a whole new type of shopping and dining reward experience. The advanced QR code-based digital rewards app is very easy for people to use with one stamp card on your phone at a variety of locations.&nbsp\;</span></span><br />\n&nbsp\;
LOCATION:QuartHaus 201 S Washington Street Chandler\, AZ 85225
UID:e.1561.44681
SEQUENCE:3
DTSTAMP:20260423T190026Z
URL:https://business.chandlerchamber.com/events/details/ribbon-cutting-downtown-chandler-flex-rewards-44681
END:VEVENT

END:VCALENDAR
