BEGIN:VCALENDAR
VERSION:2.0
PRODID:-//ChamberMaster//Event Calendar 2.0//EN
METHOD:PUBLISH
X-PUBLISHED-TTL:P3D
REFRESH-INTERVAL:P3D
CALSCALE:GREGORIAN
BEGIN:VEVENT
DTSTART:20150210T233000Z
DTEND:20150211T003000Z
X-MICROSOFT-CDO-ALLDAYEVENT:FALSE
SUMMARY:Ribbon Cutting @ El Bella Salon & Day Spa
DESCRIPTION:Join the Chandler Chamber of Commerce in celebrating with El Bella Day and Spa at their ribbon cutting! Ribbon cutting and refreshments!\n\n\n\n*Thank you to our ribbon sponsor\, Laser Creations
X-ALT-DESC;FMTTYPE=text/html:Join the Chandler Chamber of Commerce in celebrating with El Bella Day and Spa at their ribbon cutting! Ribbon cutting and refreshments!<br />\n<br />\n*Thank you to our ribbon sponsor\, Laser Creations
LOCATION:1035 W Queen Creek Rd #203 Chandler\, AZ 85248 SW Corner Queen Creek/Alma School
UID:e.1561.12474
SEQUENCE:3
DTSTAMP:20260426T015644Z
URL:https://business.chandlerchamber.com/events/details/ribbon-cutting-el-bella-salon-day-spa-02-10-2015-12474
END:VEVENT

END:VCALENDAR
