BEGIN:VCALENDAR
VERSION:2.0
PRODID:-//ChamberMaster//Event Calendar 2.0//EN
METHOD:PUBLISH
X-PUBLISHED-TTL:P3D
REFRESH-INTERVAL:P3D
CALSCALE:GREGORIAN
BEGIN:VEVENT
DTSTART:20230629T230000Z
DTEND:20230630T000000Z
X-MICROSOFT-CDO-ALLDAYEVENT:FALSE
SUMMARY:Ribbon Cutting- Ellie Mental Health
DESCRIPTION:Come join the Chandler Chamber of Commerce and celebrate the Grand Opening and Ribbon Cutting for Ellie Mental Health.\n\nOur mission is to compassionately transform the culture of mental health care by providing creative solutions that make wellness accessible in every community.
X-ALT-DESC;FMTTYPE=text/html:Come join the Chandler Chamber of Commerce and celebrate the Grand Opening and Ribbon Cutting for Ellie Mental Health.<br />\nOur mission is to compassionately transform the culture of mental health care by providing creative solutions that make wellness accessible in every community.
LOCATION:Ellie Mental Health 3377 S Price Rd Ste 105 Chandler\, Az. 85248
UID:e.1561.48408
SEQUENCE:3
DTSTAMP:20260421T121942Z
URL:https://business.chandlerchamber.com/events/details/ribbon-cutting-ellie-mental-health-48408
END:VEVENT

END:VCALENDAR
