BEGIN:VCALENDAR
VERSION:2.0
PRODID:-//ChamberMaster//Event Calendar 2.0//EN
METHOD:PUBLISH
X-PUBLISHED-TTL:P3D
REFRESH-INTERVAL:P3D
CALSCALE:GREGORIAN
BEGIN:VEVENT
DTSTART:20170830T153000Z
DTEND:20170830T163000Z
X-MICROSOFT-CDO-ALLDAYEVENT:FALSE
SUMMARY:Ribbon Cutting - Even Stevens
DESCRIPTION:There will be an opportunity to taste their Breakfast & Lunch for FREE prior to the Ribbon Cutting Ceremony between 8:00 am & 9:00 am\n\nRibbon Cutting Ceremony will start right at 9:00 am\n\n \n\nCorner of Arizona Ave & Boston
X-ALT-DESC;FMTTYPE=text/html:There will be an opportunity to taste their Breakfast &amp\; Lunch for FREE prior to the Ribbon Cutting Ceremony between 8:00 am &amp\; 9:00 am<br />\nRibbon Cutting Ceremony will start right at 9:00 am<br />\n&nbsp\;<br />\nCorner of Arizona Ave &amp\; Boston<br />\n&nbsp\;
LOCATION:11 W Boston St\, Ste 3 Downtown Chandler
UID:e.1561.19110
SEQUENCE:3
DTSTAMP:20260424T080040Z
URL:https://business.chandlerchamber.com/events/details/ribbon-cutting-even-stevens-19110
END:VEVENT

END:VCALENDAR
