BEGIN:VCALENDAR
VERSION:2.0
PRODID:-//ChamberMaster//Event Calendar 2.0//EN
METHOD:PUBLISH
X-PUBLISHED-TTL:P3D
REFRESH-INTERVAL:P3D
CALSCALE:GREGORIAN
BEGIN:VEVENT
DTSTART:20150806T233000Z
DTEND:20150807T003000Z
X-MICROSOFT-CDO-ALLDAYEVENT:FALSE
SUMMARY:Ribbon Cutting - Eye Consultants of Arizona
DESCRIPTION:Join the Chandler Chamber at the ribbon cutting for Eye Consultants of Arizona! Ribbon cutting and refreshments.\n\n\n\n* Thank you to our ribbon sponsor Laser Creations
X-ALT-DESC;FMTTYPE=text/html:Join the Chandler Chamber at the ribbon cutting for Eye Consultants of Arizona! Ribbon cutting and refreshments.<br />\n<br />\n* Thank you to our ribbon sponsor Laser Creations
LOCATION:2490 W Ray Rd #3 Chandler AZ 85224 Just west of Dobson on north side of street
UID:e.1561.12925
SEQUENCE:3
DTSTAMP:20260425T184124Z
URL:https://business.chandlerchamber.com/events/details/ribbon-cutting-eye-consultants-of-arizona-08-06-2015-12925
END:VEVENT

END:VCALENDAR
