BEGIN:VCALENDAR
VERSION:2.0
PRODID:-//ChamberMaster//Event Calendar 2.0//EN
METHOD:PUBLISH
X-PUBLISHED-TTL:P3D
REFRESH-INTERVAL:P3D
CALSCALE:GREGORIAN
BEGIN:VEVENT
DTSTART:20170804T230000Z
DTEND:20170805T000000Z
X-MICROSOFT-CDO-ALLDAYEVENT:FALSE
SUMMARY:Ribbon Cutting/Facebook Live for Experimac
DESCRIPTION:Join us for a Ribbon Cutting & Facebook Live for Experimac\n\n*Thank you to our ribbon sponsor Laser Creations*
X-ALT-DESC;FMTTYPE=text/html:Join us for a Ribbon Cutting &amp\; Facebook Live for Experimac<br />\n*Thank you to our ribbon sponsor Laser Creations*&nbsp\;&nbsp\;&nbsp\;&nbsp\;&nbsp\;&nbsp\;&nbsp\;&nbsp\;&nbsp\;&nbsp\;&nbsp\;&nbsp\;&nbsp\;&nbsp\;&nbsp\;&nbsp\;
LOCATION:4015 S Arizona Ave #4 Chandler\, AZ 85249 SE corner Ocotillo/Arizona Ave
UID:e.1561.19094
SEQUENCE:3
DTSTAMP:20260424T080223Z
URL:https://business.chandlerchamber.com/events/details/ribbon-cutting-facebook-live-for-experimac-19094
END:VEVENT

END:VCALENDAR
