BEGIN:VCALENDAR
VERSION:2.0
PRODID:-//ChamberMaster//Event Calendar 2.0//EN
METHOD:PUBLISH
X-PUBLISHED-TTL:P3D
REFRESH-INTERVAL:P3D
CALSCALE:GREGORIAN
BEGIN:VEVENT
DTSTART:20220324T230000Z
DTEND:20220325T000000Z
X-MICROSOFT-CDO-ALLDAYEVENT:FALSE
SUMMARY:Ribbon Cutting for Ahwatukee Dental Health
DESCRIPTION:Join the Chandler Chamber at the Ribbon Cutting for --\n\nAhwatukee Dental Health\n\n15215 S 48th St. #190\n\nPhoenix\, AZ 85044\n\n\n\nThank you to our Ribbon Sponsor - Laser Creations
X-ALT-DESC;FMTTYPE=text/html:Join the Chandler Chamber at the Ribbon Cutting for --<br>\n<span style="font-size:14px\;"><strong>Ahwatukee Dental Health</strong><br>\n15215 S 48th St. #190<br>\nPhoenix\, AZ 85044</span><br>\n<br>\n<strong>Thank you to our Ribbon Sponsor - Laser Creations</strong>
LOCATION:15215 S 48th St. #190 Phoenix\, AZ 85044
UID:e.1561.40631
SEQUENCE:3
DTSTAMP:20260423T234350Z
URL:https://business.chandlerchamber.com/events/details/ribbon-cutting-for-ahwatukee-dental-health-40631
END:VEVENT

END:VCALENDAR
