BEGIN:VCALENDAR
VERSION:2.0
PRODID:-//ChamberMaster//Event Calendar 2.0//EN
METHOD:PUBLISH
X-PUBLISHED-TTL:P3D
REFRESH-INTERVAL:P3D
CALSCALE:GREGORIAN
BEGIN:VEVENT
DTSTART:20170822T230000Z
DTEND:20170823T000000Z
X-MICROSOFT-CDO-ALLDAYEVENT:FALSE
SUMMARY:Ribbon Cutting for All In One Poster Company Inc
DESCRIPTION:Join the Chandler Chamber for a Ribbon Cutting for All In One Poster Company Inc\n\n*Thank you to our Ribbon Sponsor\, Laser Creations
X-ALT-DESC;FMTTYPE=text/html:Join the Chandler Chamber for a Ribbon Cutting for All In One Poster Company Inc<br />\n*Thank you to our Ribbon Sponsor\, Laser Creations&nbsp\;&nbsp\;&nbsp\;&nbsp\;&nbsp\;&nbsp\;&nbsp\;&nbsp\;&nbsp\;&nbsp\;&nbsp\;&nbsp\;&nbsp\;&nbsp\;&nbsp\;&nbsp\;&nbsp\;&nbsp\;&nbsp\;&nbsp\;
LOCATION:2120 S Douglas Dr Chandler\, AZ 85286 south of Germann off of Stearman Dr.
UID:e.1561.19087
SEQUENCE:3
DTSTAMP:20260424T064119Z
URL:https://business.chandlerchamber.com/events/details/ribbon-cutting-for-all-in-one-poster-company-inc-19087
END:VEVENT

END:VCALENDAR
