BEGIN:VCALENDAR
VERSION:2.0
PRODID:-//ChamberMaster//Event Calendar 2.0//EN
METHOD:PUBLISH
X-PUBLISHED-TTL:P3D
REFRESH-INTERVAL:P3D
CALSCALE:GREGORIAN
BEGIN:VEVENT
DTSTART:20180822T233000Z
DTEND:20180823T003000Z
X-MICROSOFT-CDO-ALLDAYEVENT:FALSE
SUMMARY:Ribbon Cutting for Alta San Marcos
DESCRIPTION:Join the Chandler Chamber of Commerce at the ribbon cutting for Alta San Marcos.  \n\n"Thank you to our ribbon sponsor Laser Creations".
X-ALT-DESC;FMTTYPE=text/html:Join the Chandler Chamber of Commerce at the ribbon cutting for Alta San Marcos.&nbsp\;&nbsp\;<br />\n&quot\;Thank you to our ribbon sponsor Laser Creations&quot\;.
LOCATION:445 W. Chandler Blvd Chandler\, AZ 85225 (Chandler Blvd just west of Arizona Ave)
UID:e.1561.33695
SEQUENCE:3
DTSTAMP:20260423T135711Z
URL:https://business.chandlerchamber.com/events/details/ribbon-cutting-for-alta-san-marcos-33695
END:VEVENT

END:VCALENDAR
