BEGIN:VCALENDAR
VERSION:2.0
PRODID:-//ChamberMaster//Event Calendar 2.0//EN
METHOD:PUBLISH
X-PUBLISHED-TTL:P3D
REFRESH-INTERVAL:P3D
CALSCALE:GREGORIAN
BEGIN:VEVENT
DTSTART:20170824T230000Z
DTEND:20170825T000000Z
X-MICROSOFT-CDO-ALLDAYEVENT:FALSE
SUMMARY:Ribbon Cutting for American Family Insurance
DESCRIPTION:Join the Chandler Chamber for a Ribbon Cutting for Gerald Sajor-American Family Insurance's New Office            \n\n*Thank you to our Ribbon Sponsor Laser Creations
X-ALT-DESC;FMTTYPE=text/html:Join the Chandler Chamber for a Ribbon Cutting for Gerald Sajor-American Family Insurance&#39\;s New Office&nbsp\;&nbsp\;&nbsp\;&nbsp\;&nbsp\;&nbsp\;&nbsp\;&nbsp\;&nbsp\;&nbsp\;&nbsp\;&nbsp\;<br />\n*Thank you to our Ribbon Sponsor Laser Creations
LOCATION:100 W Boston St #1 Chandler AZ 85225
UID:e.1561.19088
SEQUENCE:3
DTSTAMP:20260424T064146Z
URL:https://business.chandlerchamber.com/events/details/ribbon-cutting-for-american-family-insurance-19088
END:VEVENT

END:VCALENDAR
