BEGIN:VCALENDAR
VERSION:2.0
PRODID:-//ChamberMaster//Event Calendar 2.0//EN
METHOD:PUBLISH
X-PUBLISHED-TTL:P3D
REFRESH-INTERVAL:P3D
CALSCALE:GREGORIAN
BEGIN:VEVENT
DTSTART:20180424T230000Z
DTEND:20180425T000000Z
X-MICROSOFT-CDO-ALLDAYEVENT:FALSE
SUMMARY:Ribbon Cutting for American InterContinental University
DESCRIPTION:Join the Chandler Chamber of Commerce at the ribbon cutting for\n\nAmerican InterContinental University        \n\n\n\n*Thank You to our Ribbon Sponsor Laser Creations*
X-ALT-DESC;FMTTYPE=text/html:Join the Chandler Chamber of Commerce at the ribbon cutting for<br />\nAmerican InterContinental University&nbsp\;&nbsp\;&nbsp\;&nbsp\;&nbsp\;&nbsp\;&nbsp\;&nbsp\;<br />\n<br />\n*Thank You to our Ribbon Sponsor Laser Creations*
LOCATION:2200 E Germann Rd Chandler\, AZ 85286 (Yeager/Germann) east of McQueen
UID:e.1561.20953
SEQUENCE:3
DTSTAMP:20260423T210129Z
URL:https://business.chandlerchamber.com/events/details/ribbon-cutting-for-american-intercontinental-university-20953
END:VEVENT

END:VCALENDAR
