BEGIN:VCALENDAR
VERSION:2.0
PRODID:-//ChamberMaster//Event Calendar 2.0//EN
METHOD:PUBLISH
X-PUBLISHED-TTL:P3D
REFRESH-INTERVAL:P3D
CALSCALE:GREGORIAN
BEGIN:VEVENT
DTSTART:20170811T230000Z
DTEND:20170812T000000Z
X-MICROSOFT-CDO-ALLDAYEVENT:FALSE
SUMMARY:Ribbon Cutting for Ananda Salon and Skin Center
DESCRIPTION:Join the Chandler Chamber of Commerce for a Ribbon Cutting at\n\nAnanda Salon and Skin Center\n\n*Thank you to our ribbon sponsor Laser Creations*
X-ALT-DESC;FMTTYPE=text/html:Join the Chandler Chamber of Commerce for a Ribbon Cutting at<br />\nAnanda Salon and Skin Center<br />\n*Thank you to our ribbon sponsor Laser Creations*&nbsp\;&nbsp\;&nbsp\;&nbsp\;
LOCATION:4085 S Gilbert Rd #8 Chandler\, AZ 85249 (SE corner Gilbert Rd/Ocotillo in the Sprout's Shopping Plaza)
UID:e.1561.19102
SEQUENCE:3
DTSTAMP:20260424T064145Z
URL:https://business.chandlerchamber.com/events/details/ribbon-cutting-for-ananda-salon-and-skin-center-19102
END:VEVENT

END:VCALENDAR
