BEGIN:VCALENDAR
VERSION:2.0
PRODID:-//ChamberMaster//Event Calendar 2.0//EN
METHOD:PUBLISH
X-PUBLISHED-TTL:P3D
REFRESH-INTERVAL:P3D
CALSCALE:GREGORIAN
BEGIN:VEVENT
DTSTART:20190521T230000Z
DTEND:20190522T000000Z
X-MICROSOFT-CDO-ALLDAYEVENT:FALSE
SUMMARY:Ribbon Cutting for Anchor Moments
DESCRIPTION:Join the Chandler Chamber at the Ribbon Cutting for Anchor Moments\n\n\n\nThank you to our Ribbon Sponsor Laser Creations
X-ALT-DESC;FMTTYPE=text/html:Join the Chandler Chamber at the Ribbon Cutting for&nbsp\;Anchor Moments<br />\n<br />\nThank you to our Ribbon Sponsor Laser Creations
LOCATION:Floridinos Pizza & Pasta 590 N Alma School Rd Ste 35\, Chandler\, AZ 85224 (Alma School Rd\, south of W Galveston St)
UID:e.1561.36657
SEQUENCE:3
DTSTAMP:20260423T021218Z
URL:https://business.chandlerchamber.com/events/details/ribbon-cutting-for-anchor-moments-36657
END:VEVENT

END:VCALENDAR
