BEGIN:VCALENDAR
VERSION:2.0
PRODID:-//ChamberMaster//Event Calendar 2.0//EN
METHOD:PUBLISH
X-PUBLISHED-TTL:P3D
REFRESH-INTERVAL:P3D
CALSCALE:GREGORIAN
BEGIN:VEVENT
DTSTART:20180406T230000Z
DTEND:20180407T000000Z
X-MICROSOFT-CDO-ALLDAYEVENT:FALSE
SUMMARY:Ribbon Cutting for Artistic Aquariums
DESCRIPTION:Join the Chandler Chamber at a ribbon cutting for Artistic Aquariums!\n\n*Thank you to our ribbon sponsor Laser Creations*
X-ALT-DESC;FMTTYPE=text/html:Join the Chandler Chamber at a ribbon cutting for Artistic Aquariums!<br />\n*Thank you&nbsp\;to our ribbon sponsor Laser Creations*
LOCATION:3350 N. Arizona Ave.\, Ste 9 Chandler\, AZ.\, 85225 West side of Arizona Avenue\, North of Elliott Rd.
UID:e.1561.28564
SEQUENCE:3
DTSTAMP:20260423T193322Z
URL:https://business.chandlerchamber.com/events/details/ribbon-cutting-for-artistic-aquariums-28564
END:VEVENT

END:VCALENDAR
