BEGIN:VCALENDAR
VERSION:2.0
PRODID:-//ChamberMaster//Event Calendar 2.0//EN
METHOD:PUBLISH
X-PUBLISHED-TTL:P3D
REFRESH-INTERVAL:P3D
CALSCALE:GREGORIAN
BEGIN:VEVENT
DTSTART:20170615T230000Z
DTEND:20170616T000000Z
X-MICROSOFT-CDO-ALLDAYEVENT:FALSE
SUMMARY:Ribbon Cutting for Bambu
DESCRIPTION:Join the Chandler Chamber of Commerce for a Ribbon Cutting for Bambu\n\n*Thank you to our Ribbon Sponsor - Laser Creations
X-ALT-DESC;FMTTYPE=text/html:Join the Chandler Chamber of Commerce for a Ribbon Cutting for Bambu<br />\n*Thank you to our Ribbon Sponsor - Laser Creations
LOCATION:2015 N Dobson Rd #9 Chandler AZ 85224 (NE corner of Dobson & Warner)
UID:e.1561.19069
SEQUENCE:3
DTSTAMP:20260424T092840Z
URL:https://business.chandlerchamber.com/events/details/ribbon-cutting-for-bambu-19069
END:VEVENT

END:VCALENDAR
