BEGIN:VCALENDAR
VERSION:2.0
PRODID:-//ChamberMaster//Event Calendar 2.0//EN
METHOD:PUBLISH
X-PUBLISHED-TTL:P3D
REFRESH-INTERVAL:P3D
CALSCALE:GREGORIAN
BEGIN:VEVENT
DTSTART:20180824T223000Z
DTEND:20180824T233000Z
X-MICROSOFT-CDO-ALLDAYEVENT:FALSE
SUMMARY:Ribbon Cutting for barre3 Chandler
DESCRIPTION:Join the Chandler Chamber at the Ribbon Cutting for\n\nbarre3 Chandler
X-ALT-DESC;FMTTYPE=text/html:Join the Chandler Chamber at the Ribbon Cutting for<br />\nbarre3 Chandler
LOCATION:4145 S Gilbert Rd Chandler\, AZ 85249 (SE corner Gilbert Rd/Ocotillo Rd)
UID:e.1561.34139
SEQUENCE:3
DTSTAMP:20260423T135823Z
URL:https://business.chandlerchamber.com/events/details/ribbon-cutting-for-barre3-chandler-34139
END:VEVENT

END:VCALENDAR
