BEGIN:VCALENDAR
VERSION:2.0
PRODID:-//ChamberMaster//Event Calendar 2.0//EN
METHOD:PUBLISH
X-PUBLISHED-TTL:P3D
REFRESH-INTERVAL:P3D
CALSCALE:GREGORIAN
BEGIN:VEVENT
DTSTART:20190619T230000Z
DTEND:20190620T000000Z
X-MICROSOFT-CDO-ALLDAYEVENT:FALSE
SUMMARY:Ribbon Cutting for Batteries Plus Bulbs
DESCRIPTION:Join the Chandler Chamber at the Ribbon Cutting for\n\nBatteries Plus Bulbs\n\n\n\n*Thank you to our Ribbon Sponsor Laser Creations*
X-ALT-DESC;FMTTYPE=text/html:Join the Chandler Chamber at the Ribbon Cutting for<br />\nBatteries Plus Bulbs<br />\n<br />\n*Thank you to our Ribbon Sponsor Laser Creations*
LOCATION:4040 S Arizona Ave #H-5 Chandler AZ 85248 (SW corner Arizona Ave/Ocotillo)
UID:e.1561.36716
SEQUENCE:3
DTSTAMP:20260423T003818Z
URL:https://business.chandlerchamber.com/events/details/ribbon-cutting-for-batteries-plus-bulbs-36716
END:VEVENT

END:VCALENDAR
