BEGIN:VCALENDAR
VERSION:2.0
PRODID:-//ChamberMaster//Event Calendar 2.0//EN
METHOD:PUBLISH
X-PUBLISHED-TTL:P3D
REFRESH-INTERVAL:P3D
CALSCALE:GREGORIAN
BEGIN:VEVENT
DTSTART:20180612T230000Z
DTEND:20180613T000000Z
X-MICROSOFT-CDO-ALLDAYEVENT:FALSE
SUMMARY:Ribbon Cutting for Burn Boot Camp South Chandler
DESCRIPTION:Join the Chandler Chamber at the Ribbon Cutting for\n\nBurn Boot Camp South Chandler\n\n*Thank you to our Ribbon Sponsor Laser Creations*
X-ALT-DESC;FMTTYPE=text/html:Join the Chandler Chamber at the Ribbon Cutting for<br />\nBurn Boot Camp South Chandler<br />\n*Thank you to our Ribbon Sponsor Laser Creations*
LOCATION:2815 E Ocotillo Rd #7 Chandler\, AZ 85249 SW corner Gilbert Rd/Ocotillo
UID:e.1561.33676
SEQUENCE:3
DTSTAMP:20260423T163650Z
URL:https://business.chandlerchamber.com/events/details/ribbon-cutting-for-burn-boot-camp-south-chandler-33676
END:VEVENT

END:VCALENDAR
