BEGIN:VCALENDAR
VERSION:2.0
PRODID:-//ChamberMaster//Event Calendar 2.0//EN
METHOD:PUBLISH
X-PUBLISHED-TTL:P3D
REFRESH-INTERVAL:P3D
CALSCALE:GREGORIAN
BEGIN:VEVENT
DTSTART:20190313T230000Z
DTEND:20190314T000000Z
X-MICROSOFT-CDO-ALLDAYEVENT:FALSE
SUMMARY:Ribbon Cutting for Canyon Building & Design
DESCRIPTION:Join the Chandler Chamber for the Ribbon Cutting for:\n\nCanyon Building & Design\n\n\n\nThank you to our Ribbon Cutting Sponsor: Laser Creations
X-ALT-DESC;FMTTYPE=text/html:Join the Chandler Chamber for the Ribbon Cutting for:<br />\nCanyon Building &amp\; Design<br />\n<br />\nThank you to our Ribbon Cutting Sponsor: Laser Creations&nbsp\;&nbsp\;&nbsp\;&nbsp\;&nbsp\;&nbsp\;&nbsp\;&nbsp\;
LOCATION:Canyon Building & Design 720 E Iris Pl Chandler\, AZ 85286 (Arizona Ave/Ocotillo\; turn onto S Centre Pointe Pkwy)
UID:e.1561.36309
SEQUENCE:3
DTSTAMP:20260423T045503Z
URL:https://business.chandlerchamber.com/events/details/ribbon-cutting-for-canyon-building-design-36309
END:VEVENT

END:VCALENDAR
