BEGIN:VCALENDAR
VERSION:2.0
PRODID:-//ChamberMaster//Event Calendar 2.0//EN
METHOD:PUBLISH
X-PUBLISHED-TTL:P3D
REFRESH-INTERVAL:P3D
CALSCALE:GREGORIAN
BEGIN:VEVENT
DTSTART:20171114T230000Z
DTEND:20171115T000000Z
X-MICROSOFT-CDO-ALLDAYEVENT:FALSE
SUMMARY:Ribbon Cutting for Celinas Eclectic Studio
DESCRIPTION:Join the Chandler Chamber for a ribbon cutting for Celinas Eclectic Studio    \n\nThank you to our ribbon sponsor Laser Creations
X-ALT-DESC;FMTTYPE=text/html:Join the Chandler Chamber for a ribbon cutting for Celinas Eclectic Studio&nbsp\;&nbsp\;&nbsp\;&nbsp\;<br />\nThank you to our ribbon sponsor Laser Creations
LOCATION:930 E Warner Rd #25 Chandler\, AZ 85225 NW corner McQueen/Warner)
UID:e.1561.19131
SEQUENCE:3
DTSTAMP:20260424T022016Z
URL:https://business.chandlerchamber.com/events/details/ribbon-cutting-for-celinas-eclectic-studio-19131
END:VEVENT

END:VCALENDAR
