BEGIN:VCALENDAR
VERSION:2.0
PRODID:-//ChamberMaster//Event Calendar 2.0//EN
METHOD:PUBLISH
X-PUBLISHED-TTL:P3D
REFRESH-INTERVAL:P3D
CALSCALE:GREGORIAN
BEGIN:VEVENT
DTSTART:20190320T170000Z
DTEND:20190320T180000Z
X-MICROSOFT-CDO-ALLDAYEVENT:FALSE
SUMMARY:Ribbon Cutting for Cherish Farm Fresh Eatery
DESCRIPTION:Join the Chandler Chamber at the Ribbon Cutting for\n\nCherish Farm Fresh Eatery\n\n\n\n*Thank you to our Ribbon Sponsor Laser Creations**
X-ALT-DESC;FMTTYPE=text/html:Join the Chandler Chamber at the Ribbon Cutting for<br />\nCherish Farm Fresh Eatery<br />\n<br />\n*Thank you to our Ribbon Sponsor Laser Creations**
LOCATION:Cherish Farm Fresh Eatery 2551 W Queen Creek Rd #4 Chandler AZ 85248 (SW corner Dobson Rd/Queen Creek Rd)
UID:e.1561.36631
SEQUENCE:3
DTSTAMP:20260423T045519Z
URL:https://business.chandlerchamber.com/events/details/ribbon-cutting-for-cherish-farm-fresh-eatery-36631
END:VEVENT

END:VCALENDAR
