BEGIN:VCALENDAR
VERSION:2.0
PRODID:-//ChamberMaster//Event Calendar 2.0//EN
METHOD:PUBLISH
X-PUBLISHED-TTL:P3D
REFRESH-INTERVAL:P3D
CALSCALE:GREGORIAN
BEGIN:VEVENT
DTSTART:20180410T230000Z
DTEND:20180411T000000Z
X-MICROSOFT-CDO-ALLDAYEVENT:FALSE
SUMMARY:Ribbon Cutting for Christ's Church of the Valley - Chandler
DESCRIPTION:Join the Chandler Chamber for a ribbon cutting for Christ's Church of the Valley - Chandler campus\n\n\n\n\n\n*Thank you to our ribbon sponsor Laser Creations*
X-ALT-DESC;FMTTYPE=text/html:Join the Chandler Chamber for a ribbon cutting for Christ&#39\;s Church of the Valley - Chandler campus<br />\n<br />\n<br />\n*Thank you to our ribbon sponsor Laser Creations*&nbsp\; &nbsp\; &nbsp\;&nbsp\;
LOCATION:5835 W Ray Rd Chandler\, AZ 85226 (480) 935-4100 SE corner of Ray and Kyrene
UID:e.1561.20945
SEQUENCE:3
DTSTAMP:20260423T194007Z
URL:https://business.chandlerchamber.com/events/details/ribbon-cutting-for-christ-s-church-of-the-valley-chandler-20945
END:VEVENT

END:VCALENDAR
