BEGIN:VCALENDAR
VERSION:2.0
PRODID:-//ChamberMaster//Event Calendar 2.0//EN
METHOD:PUBLISH
X-PUBLISHED-TTL:P3D
REFRESH-INTERVAL:P3D
CALSCALE:GREGORIAN
BEGIN:VEVENT
DTSTART:20190328T230000Z
DTEND:20190329T000000Z
X-MICROSOFT-CDO-ALLDAYEVENT:FALSE
SUMMARY:Ribbon Cutting for Civic Market
DESCRIPTION:Join the Chandler Chamber for the ribbon cutting at Civic Market\n\n\n\nThank you to our Ribbon Sponsor Laser Creations
X-ALT-DESC;FMTTYPE=text/html:Join the Chandler Chamber for the ribbon cutting at Civic Market<br />\n<br />\nThank you to our Ribbon Sponsor Laser Creations
LOCATION:Civic Market 201 S Washington St Chandler\, AZ 85225 SE Corner of Chicago and Washington
UID:e.1561.36620
SEQUENCE:3
DTSTAMP:20260423T045519Z
URL:https://business.chandlerchamber.com/events/details/ribbon-cutting-for-civic-market-36620
END:VEVENT

END:VCALENDAR
