BEGIN:VCALENDAR
VERSION:2.0
PRODID:-//ChamberMaster//Event Calendar 2.0//EN
METHOD:PUBLISH
X-PUBLISHED-TTL:P3D
REFRESH-INTERVAL:P3D
CALSCALE:GREGORIAN
BEGIN:VEVENT
DTSTART:20260115T203000Z
DTEND:20260115T220000Z
X-MICROSOFT-CDO-ALLDAYEVENT:FALSE
SUMMARY:Ribbon Cutting for Claim Assist Solutions
DESCRIPTION:Join the Chandler Chamber for a Ribbon Cutting at: \n\n\n\nClaim Assist Solutions\n\n350 North McClintock Drive\n\nChandler\, Arizona\, 85226\n\n\n\nClaim Assist Solutions' complete set of tech-enabled insurance services facilitate claims with total accuracy and speed. By delivering a full suite of end-to-end solutions that address all aspects of the insurance process\, Claim Assist builds on a reputation as a leading provider of outsourced claim services.
X-ALT-DESC;FMTTYPE=text/html:<span style="font-size:16px\;"><span style="font-family:arial\;">Join the Chandler Chamber for a Ribbon Cutting at:&nbsp\;</span></span><br />\n<br />\n<strong style="font-family: arial\; font-size: 16px\;">Claim Assist Solutions</strong><br style="font-family: arial\; font-size: 16px\;" />\n<span style="font-family: arial\; font-size: 16px\;">350 North McClintock Drive</span><br style="font-family: arial\; font-size: 16px\;" />\n<span style="font-family: arial\; font-size: 16px\;">Chandler\, Arizona\, 85226<br />\n<br />\nClaim Assist Solutions&#39\; complete set of tech-enabled insurance services facilitate claims with total accuracy and speed. By delivering a full suite of end-to-end solutions that address all aspects of the insurance process\, Claim Assist builds on a reputation as a leading provider of outsourced claim services.</span><br />\n<br />\n&nbsp\;
LOCATION:Claim Assist Solutions 350 North McClintock Drive Chandler\, Arizona\, 85226
UID:e.1561.52000
SEQUENCE:3
DTSTAMP:20260424T051008Z
URL:https://business.chandlerchamber.com/events/details/ribbon-cutting-for-claim-assist-solutions-52000
END:VEVENT

END:VCALENDAR
