BEGIN:VCALENDAR
VERSION:2.0
PRODID:-//ChamberMaster//Event Calendar 2.0//EN
METHOD:PUBLISH
X-PUBLISHED-TTL:P3D
REFRESH-INTERVAL:P3D
CALSCALE:GREGORIAN
BEGIN:VEVENT
DTSTART:20180809T223000Z
DTEND:20180809T233000Z
X-MICROSOFT-CDO-ALLDAYEVENT:FALSE
SUMMARY:Ribbon Cutting For Classic Image Dance
DESCRIPTION:Join the Chandler Chamber for a Ribbon Cutting at Las Palmas Cantina\n\n\n\n*Thank you to our Ribbon Sponsor Laser Creations*
X-ALT-DESC;FMTTYPE=text/html:Join the Chandler Chamber for a Ribbon Cutting at Las Palmas Cantina<br />\n<br />\n*Thank you to our Ribbon Sponsor Laser Creations*&nbsp\; &nbsp\; &nbsp\; &nbsp\;
LOCATION:335 N Austin Dr\, Ste 4 Chandler\, AZ 85226
UID:e.1561.33675
SEQUENCE:3
DTSTAMP:20260423T140142Z
URL:https://business.chandlerchamber.com/events/details/ribbon-cutting-for-classic-image-dance-33675
END:VEVENT

END:VCALENDAR
