BEGIN:VCALENDAR
VERSION:2.0
PRODID:-//ChamberMaster//Event Calendar 2.0//EN
METHOD:PUBLISH
X-PUBLISHED-TTL:P3D
REFRESH-INTERVAL:P3D
CALSCALE:GREGORIAN
BEGIN:VEVENT
DTSTART:20180627T230000Z
DTEND:20180628T000000Z
X-MICROSOFT-CDO-ALLDAYEVENT:FALSE
SUMMARY:Ribbon Cutting for College Hunks Hauling Junk & Moving
DESCRIPTION:Join the Chandler Chamber at the Ribbon Cutting for:\n\nCollege Hunks Hauling Junk & Moving\n\n\n\n*Thank you to our ribbon sponsor - Laser Creations*
X-ALT-DESC;FMTTYPE=text/html:Join the Chandler Chamber at the Ribbon Cutting for:<br />\nCollege Hunks Hauling Junk &amp\; Moving<br />\n<br />\n*Thank you to our ribbon sponsor - Laser Creations*&nbsp\;&nbsp\;&nbsp\;&nbsp\;&nbsp\;&nbsp\;&nbsp\;&nbsp\;
LOCATION:7400 W Detroit St #140 Chandler\, AZ 85226 (54th St/Chandler Blvd)
UID:e.1561.33674
SEQUENCE:3
DTSTAMP:20260423T181127Z
URL:https://business.chandlerchamber.com/events/details/ribbon-cutting-for-college-hunks-hauling-junk-moving-33674
END:VEVENT

END:VCALENDAR
