BEGIN:VCALENDAR
VERSION:2.0
PRODID:-//ChamberMaster//Event Calendar 2.0//EN
METHOD:PUBLISH
X-PUBLISHED-TTL:P3D
REFRESH-INTERVAL:P3D
CALSCALE:GREGORIAN
BEGIN:VEVENT
DTSTART:20260108T230000Z
DTEND:20260109T000000Z
X-MICROSOFT-CDO-ALLDAYEVENT:FALSE
SUMMARY:Ribbon Cutting for Desert Soul Media
DESCRIPTION:Join the Chandler Chamber at the Ribbon Cutting for\n\nDesert Soul Media\n\n601 N Alma School Rd\n\nChandler AZ 85224\n\n\n\nDesert Soul Media\, Inc. is an educational non-profit bridging the digital divide between access to and training on digital media equipment and software.
X-ALT-DESC;FMTTYPE=text/html:Join the Chandler Chamber at the Ribbon Cutting for<br />\n<span style="font-size:14px\;"><strong>Desert Soul Media<br />\n601 N Alma School Rd<br />\nChandler AZ 85224</strong></span><br />\n<br />\nDesert Soul Media\, Inc. is an educational non-profit bridging the digital divide between access to and training on digital media equipment and software.
LOCATION:Desert Soul Media Kingdomwork Studio 601 N Alma School Rd Chandler AZ 85224
UID:e.1561.52021
SEQUENCE:3
DTSTAMP:20260419T152744Z
URL:https://business.chandlerchamber.com/events/details/ribbon-cutting-for-desert-soul-media-52021
END:VEVENT

END:VCALENDAR
