BEGIN:VCALENDAR
VERSION:2.0
PRODID:-//ChamberMaster//Event Calendar 2.0//EN
METHOD:PUBLISH
X-PUBLISHED-TTL:P3D
REFRESH-INTERVAL:P3D
CALSCALE:GREGORIAN
BEGIN:VEVENT
DTSTART:20171206T230000Z
DTEND:20171207T000000Z
X-MICROSOFT-CDO-ALLDAYEVENT:FALSE
SUMMARY:Ribbon Cutting for Donovan's Bicycle Shop
DESCRIPTION:Join the Chandler Chamber at a ribbon Cutting for\n\nDonovan's Bicycle Shop\n\n*Thank you to our ribbon sponsor Laser Creations*
X-ALT-DESC;FMTTYPE=text/html:Join the Chandler Chamber at a ribbon Cutting for<br />\nDonovan&#39\;s Bicycle Shop<br />\n*Thank you to our ribbon sponsor Laser Creations*
LOCATION:77 W. Chicago St. Chandler\, AZ.\, 85225 SE corner of Chicago and Oregon st.
UID:e.1561.19625
SEQUENCE:3
DTSTAMP:20260424T011356Z
URL:https://business.chandlerchamber.com/events/details/ribbon-cutting-for-donovan-s-bicycle-shop-19625
END:VEVENT

END:VCALENDAR
