BEGIN:VCALENDAR
VERSION:2.0
PRODID:-//ChamberMaster//Event Calendar 2.0//EN
METHOD:PUBLISH
X-PUBLISHED-TTL:P3D
REFRESH-INTERVAL:P3D
CALSCALE:GREGORIAN
BEGIN:VEVENT
DTSTART:20190710T230000Z
DTEND:20190711T000000Z
X-MICROSOFT-CDO-ALLDAYEVENT:FALSE
SUMMARY:Ribbon Cutting for Eden\, An Aveda Salon & Spa
DESCRIPTION:Join the Chandler Chamber of Commerce at the ribbon cutting for:\n\nEden\, An Aveda Salon & Spa\n\n\n\n*Thank you to our ribbon sponsor Laser Creations*
X-ALT-DESC;FMTTYPE=text/html:Join the Chandler Chamber of Commerce at the ribbon cutting for:<br />\nEden\, An Aveda Salon &amp\; Spa<br />\n<br />\n*Thank you to our ribbon sponsor Laser Creations*
LOCATION:Eden\, An Aveda Salon & Spa 2875 W Ray Rd #1 Chandler AZ 85224 (SE corner of Ray/101 by Whole Foods)
UID:e.1561.36750
SEQUENCE:3
DTSTAMP:20260422T230806Z
URL:https://business.chandlerchamber.com/events/details/ribbon-cutting-for-eden-an-aveda-salon-spa-36750
END:VEVENT

END:VCALENDAR
