BEGIN:VCALENDAR
VERSION:2.0
PRODID:-//ChamberMaster//Event Calendar 2.0//EN
METHOD:PUBLISH
X-PUBLISHED-TTL:P3D
REFRESH-INTERVAL:P3D
CALSCALE:GREGORIAN
BEGIN:VEVENT
DTSTART:20190731T153000Z
DTEND:20190731T163000Z
X-MICROSOFT-CDO-ALLDAYEVENT:FALSE
SUMMARY:Ribbon Cutting for El Dorado High School
DESCRIPTION:Join the Chandler Chamber of Commerce at the Ribbon Cutting for:\n\nEl Dorado High School     \n\n\n\n*Thank you to our ribbon sponsor Laser Creations*
X-ALT-DESC;FMTTYPE=text/html:Join the Chandler Chamber of Commerce at the Ribbon Cutting for:<br />\nEl Dorado High School&nbsp\;&nbsp\;&nbsp\;&nbsp\;&nbsp\;<br />\n<br />\n*Thank you to our ribbon sponsor Laser Creations*&nbsp\;&nbsp\;&nbsp\;
LOCATION:3000 N Alma School Rd Chandler AZ 85224 (just north of Elliott)
UID:e.1561.36778
SEQUENCE:3
DTSTAMP:20260422T230719Z
URL:https://business.chandlerchamber.com/events/details/ribbon-cutting-for-el-dorado-high-school-36778
END:VEVENT

END:VCALENDAR
