BEGIN:VCALENDAR
VERSION:2.0
PRODID:-//ChamberMaster//Event Calendar 2.0//EN
METHOD:PUBLISH
X-PUBLISHED-TTL:P3D
REFRESH-INTERVAL:P3D
CALSCALE:GREGORIAN
BEGIN:VEVENT
DTSTART:20180718T230000Z
DTEND:20180719T000000Z
X-MICROSOFT-CDO-ALLDAYEVENT:FALSE
SUMMARY:Ribbon Cutting For ESCAPE:chandler
DESCRIPTION:Join the Chandler Chamber at the Ribbon Cutting for ESCAPE:chandler\n\n\n\n*Thank you to our ribbon sponsor Laser Creations*
X-ALT-DESC;FMTTYPE=text/html:<span style="color: rgb(51\, 51\, 51)\; font-family: sans-serif\, Arial\, Verdana\, &quot\;Trebuchet MS&quot\;\; font-size: 13px\; background-color: rgb(255\, 255\, 255)\;">Join the Chandler Chamber at the Ribbon Cutting for ESCAPE:chandler</span><br />\n<br style="color: rgb(51\, 51\, 51)\; font-family: sans-serif\, Arial\, Verdana\, &quot\;Trebuchet MS&quot\;\; font-size: 13px\;" />\n<span style="color: rgb(51\, 51\, 51)\; font-family: sans-serif\, Arial\, Verdana\, &quot\;Trebuchet MS&quot\;\; font-size: 13px\; background-color: rgb(255\, 255\, 255)\;">*Thank you to our ribbon sponsor Laser Creations*</span>
LOCATION:ESCAPE:chandler 312 N Alma School Rd\, Ste 9 Chandler\, AZ 85224 (N of Chandler Blvd\, W side of Alma School)
UID:e.1561.33691
SEQUENCE:3
DTSTAMP:20260423T150942Z
URL:https://business.chandlerchamber.com/events/details/ribbon-cutting-for-escape-chandler-33691
END:VEVENT

END:VCALENDAR
