BEGIN:VCALENDAR
VERSION:2.0
PRODID:-//ChamberMaster//Event Calendar 2.0//EN
METHOD:PUBLISH
X-PUBLISHED-TTL:P3D
REFRESH-INTERVAL:P3D
CALSCALE:GREGORIAN
BEGIN:VEVENT
DTSTART:20171004T230000Z
DTEND:20171005T000000Z
X-MICROSOFT-CDO-ALLDAYEVENT:FALSE
SUMMARY:Ribbon Cutting for Execute to Win (ETW)
DESCRIPTION:Ribbon Cutting for Execute to Win (ETW)
X-ALT-DESC;FMTTYPE=text/html:Ribbon Cutting for Execute to Win (ETW)
LOCATION:25 S. Arizona Place Suite 510\, Chandler AZ 85225
UID:e.1561.19163
SEQUENCE:3
DTSTAMP:20260424T051008Z
URL:https://business.chandlerchamber.com/events/details/ribbon-cutting-for-execute-to-win-etw-19163
END:VEVENT

END:VCALENDAR
